View In:
ArcGIS JavaScript
ArcGIS Online Map Viewer
ArcGIS Earth
Service Description: PokerFlat_DSM_Wingtra
Name: PokerFlat_DSM_Wingtra
Description:
Single Fused Map Cache: false
Extent:
XMin: 477529.02079000004
YMin: 7222440.970840001
XMax: 477922.76791000005
YMax: 7222756.08217
Spatial Reference: 32606
(32606)
LatestVCSWkid(0)
Initial Extent:
XMin: 477529.02079000004
YMin: 7222440.970840001
XMax: 477922.76791000005
YMax: 7222756.08217
Spatial Reference: 32606
(32606)
LatestVCSWkid(0)
Full Extent:
XMin: 477529.02079000004
YMin: 7222440.970840001
XMax: 477922.76791000005
YMax: 7222756.08217
Spatial Reference: 32606
(32606)
LatestVCSWkid(0)
Pixel Size X: 0.0053100000000001965
Pixel Size Y: 0.005309999999995827
Band Count: 1
Pixel Type: F32
RasterFunction Infos: {"rasterFunctionInfos": [{
"name": "None",
"description": "",
"help": ""
}]}
Mensuration Capabilities: Basic
Inspection Capabilities:
Has Histograms: true
Has Colormap: false
Has Multi Dimensions : false
Rendering Rule:
Min Scale: 0
Max Scale: 0
Copyright Text:
Service Data Type: esriImageServiceDataTypeGeneric
Min Values: 153.68016052246
Max Values: 247.22389221191
Mean Values: 213.0681026436
Standard Deviation Values: 2.0874270278226
Object ID Field:
Fields:
None
Default Mosaic Method: Center
Allowed Mosaic Methods:
SortField:
SortValue: null
Mosaic Operator: First
Default Compression Quality: 75
Default Resampling Method: Bilinear
Max Record Count: null
Max Image Height: 4100
Max Image Width: 15000
Max Download Image Count: null
Max Mosaic Image Count: null
Allow Raster Function: true
Allow Copy: true
Allow Analysis: true
Allow Compute TiePoints: false
Supports Statistics: false
Supports Advanced Queries: false
Use StandardizedQueries: true
Raster Type Infos:
Name: Raster Dataset
Description: Supports all ArcGIS Raster Datasets
Help:
Has Raster Attribute Table: false
Edit Fields Info: null
Ownership Based AccessControl For Rasters: null
Child Resources:
Info
Histograms
Statistics
Key Properties
Legend
Raster Function Infos
Supported Operations:
Export Image
Identify
Measure
Compute Histograms
Compute Statistics Histograms
Get Samples
Compute Class Statistics
Query Boundary
Compute Pixel Location
Compute Angles
Validate
Project