{
 "currentVersion": 11.5,
 "serviceDescription": "PokerFlat_DSM_Wingtra",
 "serviceItemId": "c1ec2e9f06fc48aa804ee469ff778e65",
 "name": "PokerFlat_DSM_Wingtra",
 "description": "",
 "extent": {
  "xmin": 477529.02079000004,
  "ymin": 7222440.970840001,
  "xmax": 477922.76791000005,
  "ymax": 7222756.08217,
  "spatialReference": {
   "wkid": 32606,
   "latestWkid": 32606
  }
 },
 "initialExtent": {
  "xmin": 477529.02079000004,
  "ymin": 7222440.970840001,
  "xmax": 477922.76791000005,
  "ymax": 7222756.08217,
  "spatialReference": {
   "wkid": 32606,
   "latestWkid": 32606
  }
 },
 "fullExtent": {
  "xmin": 477529.02079000004,
  "ymin": 7222440.970840001,
  "xmax": 477922.76791000005,
  "ymax": 7222756.08217,
  "spatialReference": {
   "wkid": 32606,
   "latestWkid": 32606
  }
 },
 "sortableFields": "",
 "bandCount": 1,
 "pixelType": "F32",
 "minValues": [
  153.68016052246
 ],
 "maxValues": [
  247.22389221191
 ],
 "meanValues": [
  213.0681026436
 ],
 "stdvValues": [
  2.0874270278226
 ],
 "serviceProperties": "Center<\/MosaicMethod>First<\/MosaicOperator>true<\/SortAscending><\/LockImageID><\/TileOrderField>0<\/TileOrderBase>0.000000<\/AvgImageSpacingX>0.000000<\/AvgImageSpacingY>0.0<\/ViewPointX>0.0<\/ViewPointY>0.0<\/ViewPointDefShiftX>0.0<\/ViewPointDefShiftY>None<\/CompressionMethod>75<\/CompressionQuality>0.010000<\/CompressionTolerance>Bilinear<\/SamplingMethod><\/ImageServiceProperties><\/ImageServer>",
 "allowedFields": "",
 "hasMultidimensions": false,
 "pixelSizeX": 0.0053100000000001965,
 "pixelSizeY": 0.005309999999995827,
 "meanPixelSize": 0.005309999999998012,
 "datasetFormat": "TIFF",
 "uncompressedSize": 17601608544,
 "blockWidth": 74152,
 "blockHeight": 1,
 "compressionType": "LZW",
 "bandNames": [
  "Band_1"
 ],
 "allowCopy": true,
 "allowAnalysis": true,
 "itemAccess": false,
 "inspectionCapabilities": "",
 "noDataValue": -10000,
 "noDataValues": [
  -10000
 ],
 "minPixelSize": 0,
 "maxPixelSize": 0,
 "copyrightText": "",
 "serviceDataType": "esriImageServiceDataTypeGeneric",
 "serviceSourceType": "esriImageServiceSourceTypeDataset",
 "objectIdField": "",
 "fields": [],
 "capabilities": "Image,Metadata,Mensuration",
 "defaultMosaicMethod": "Center",
 "allowedMosaicMethods": "",
 "sortField": "",
 "sortValue": null,
 "sortAscending": true,
 "mosaicOperator": "First",
 "defaultCompressionQuality": 75,
 "defaultResamplingMethod": "Bilinear",
 "maxImageHeight": 4100,
 "maxImageWidth": 15000,
 "allowRasterFunction": true,
 "rasterFunctionInfos": [
  {
   "name": "None",
   "description": "",
   "help": ""
  }
 ],
 "rasterTypeInfos": [
  {
   "name": "Raster Dataset",
   "description": "Supports all ArcGIS Raster Datasets",
   "help": ""
  }
 ],
 "mensurationCapabilities": "Basic",
 "hasHistograms": true,
 "hasColormap": false,
 "hasRasterAttributeTable": false,
 "minScale": 0,
 "maxScale": 0,
 "exportTilesAllowed": false,
 "supportsStatistics": false,
 "supportsAdvancedQueries": false,
 "editFieldsInfo": null,
 "ownershipBasedAccessControlForRasters": null,
 "allowComputeTiePoints": false,
 "useStandardizedQueries": true,
 "advancedQueryCapabilities": {
  "useStandardizedQueries": true,
  "supportsStatistics": false,
  "supportsOrderBy": false,
  "supportsDistinct": false,
  "supportsPagination": false
 },
 "spatialReference": {
  "wkid": 32606,
  "latestWkid": 32606
 }
}
